BEGIN:VCALENDAR
VERSION:2.0
PRODID:-//wp-events-plugin.com//7.2.3.1//EN
TZID:America/Mexico_City
X-WR-TIMEZONE:America/Mexico_City
BEGIN:VEVENT
UID:66@teatroinlakech.com
DTSTART;TZID=America/Mexico_City:20240727T170000
DTEND;TZID=America/Mexico_City:20240727T181500
DTSTAMP:20240722T220133Z
URL:https://teatroinlakech.com/events/funcion-de-recaudacion
SUMMARY:Función de Recaudación
DESCRIPTION:¡Tenemos función especial!\nCon esta función pretendemos rec
 audar fondos para ultimar los detalles de nuestra nueva producción y\, a 
 su vez\, reinaugurar nuestro foro\, así que\, desde nuestro teatrero cora
 zón\, esperamos contar con su presencia.\n\n¡Nos vemos el 27 de julio!\n
 Donativo\n\nAdultos $100\n\nNiños de 3 a 11 años $80\n\n
ATTACH;FMTTYPE=image/jpeg:https://teatroinlakech.com/wp-content/uploads/20
 24/07/funcion-recaudacion.png
CATEGORIES:Temporada 2024
LOCATION:Compañía Teatral In Lak' Ech\, Av. Cuauhtémoc 55\, Santa Cruz T
 alapacoya\, Ixtapaluca\, Estado de México\, México
X-APPLE-STRUCTURED-LOCATION;VALUE=URI;X-ADDRESS=Av. Cuauhtémoc 55\, Santa 
 Cruz Talapacoya\, Ixtapaluca\, Estado de México\, México;X-APPLE-RADIUS=
 100;X-TITLE=Compañía Teatral In Lak' Ech:geo:0,0
END:VEVENT
BEGIN:VTIMEZONE
TZID:America/Mexico_City
X-LIC-LOCATION:America/Mexico_City
BEGIN:STANDARD
DTSTART:20230728T170000
TZOFFSETFROM:-0600
TZOFFSETTO:-0600
TZNAME:CST
END:STANDARD
END:VTIMEZONE
END:VCALENDAR